BEGIN:VCALENDAR
VERSION:2.0
METHOD:PUBLISH
PRODID:-//Apple Inc.//iCal 4.0.4//EN
BEGIN:VEVENT
TRANSP:TRANSPARENT
X-MICROSOFT-CDO-BUSYSTATUS:BUSY
DTEND:20260430T160000Z
UID:88a7bc88a5338e581b97bd697190fa0e
LOCATION:https://www.companisto.com/online-event/5476fdb5-2b25-476d-ac8e-44ee6138e79b/d41d8cd98f00b204e9800998ecf8427e
DESCRIPTION:Details zum Event finden Sie hier:\nhttps://www.companisto.com/en/event-details/5476fdb5-2b25-476d-ac8e-44ee6138e79b\nZutritt zu dem Event erhalten Sie hier (ab Start des Events):\nhttps://www.companisto.com/online-event/5476fdb5-2b25-476d-ac8e-44ee6138e79b/d41d8cd98f00b204e9800998ecf8427e
ORGANIZER;CN=Companisto:mailto:events@companisto.com
SEQUENCE:46
SUMMARY:Companisto - Expertentalk | Was wäre, wenn Ultraschall ganze Organe in 3D sichtbar macht?
DTSTART:20260430T150000Z
BEGIN:VALARM
TRIGGER:-PT15M
DESCRIPTION:Erinnerung an ein Ereignis
ACTION:DISPLAY
END:VALARM
END:VEVENT
END:VCALENDAR