BEGIN:VCALENDAR
VERSION:2.0
METHOD:PUBLISH
PRODID:-//Apple Inc.//iCal 4.0.4//EN
BEGIN:VEVENT
TRANSP:TRANSPARENT
X-MICROSOFT-CDO-BUSYSTATUS:BUSY
DTEND:20260507T180000Z
UID:cf1f0817bf2e2b5a875d441ac2fa12b9
LOCATION:Imprintec GmbH, Konrad-Zuse-Straße 18, 44801 Bochum
DESCRIPTION:Details zum Event finden Sie hier: https://www.companisto.com/en/event-details/e01b833d-a5d4-4846-888b-d8d3af6b9904
ORGANIZER;CN=Companisto:mailto:events@companisto.com
SEQUENCE:46
SUMMARY:Companisto - Helpers Community BOCHUM | Imprintec
DTSTART:20260507T160000Z
BEGIN:VALARM
TRIGGER:-PT15M
DESCRIPTION:Erinnerung an ein Ereignis
ACTION:DISPLAY
END:VALARM
END:VEVENT
END:VCALENDAR